BEGIN:VCALENDAR
VERSION:2.0
PRODID:spatie/icalendar-generator
DESCRIPTION:Events from ccaccacademy.org
X-WR-CALDESC:Events from ccaccacademy.org
REFRESH-INTERVAL;VALUE=DURATION:PT1440M
X-PUBLISHED-TTL:PT1440M
BEGIN:VTIMEZONE
TZID:America/New_York
BEGIN:STANDARD
DTSTART:20211107T020000Z
TZOFFSETFROM:-0400
TZOFFSETTO:-0500
END:STANDARD
BEGIN:DAYLIGHT
DTSTART:20220313T020000Z
TZOFFSETFROM:-0500
TZOFFSETTO:-0400
END:DAYLIGHT
END:VTIMEZONE
BEGIN:VTIMEZONE
TZID:UTC
BEGIN:STANDARD
DTSTART:20250724T004249Z
TZOFFSETFROM:+0000
TZOFFSETTO:+0000
END:STANDARD
END:VTIMEZONE
BEGIN:VEVENT
UID:4-4
DTSTAMP:20260420T004249Z
SUMMARY:Valentine's Day -- gift exchange
LOCATION:
ORGANIZER;CN=admin:MAILTO:steve_zhu@ccaccacademy.org
DTSTART;TZID=America/New_York;VALUE=DATE:20220214
DTEND;TZID=America/New_York;VALUE=DATE:20220215
X-ALT-DESC;FMTTYPE=TEXT/HTML:
CATEGORIES:Preschool
URL;VALUE=URI:https://ccaccacademy.org/mc-events/valentines-day-gift-exchan
 ge/
METHOD:PUBLISH
END:VEVENT
END:VCALENDAR