BEGIN:VCALENDAR
VERSION:2.0
PRODID:spatie/icalendar-generator
DESCRIPTION:Events from ccaccacademy.org
X-WR-CALDESC:Events from ccaccacademy.org
REFRESH-INTERVAL;VALUE=DURATION:PT1440M
X-PUBLISHED-TTL:PT1440M
BEGIN:VTIMEZONE
TZID:America/New_York
BEGIN:STANDARD
DTSTART:20211107T020000Z
TZOFFSETFROM:-0400
TZOFFSETTO:-0500
END:STANDARD
BEGIN:DAYLIGHT
DTSTART:20220313T020000Z
TZOFFSETFROM:-0500
TZOFFSETTO:-0400
END:DAYLIGHT
END:VTIMEZONE
BEGIN:VTIMEZONE
TZID:UTC
BEGIN:STANDARD
DTSTART:20250723T185004Z
TZOFFSETFROM:+0000
TZOFFSETTO:+0000
END:STANDARD
END:VTIMEZONE
BEGIN:VEVENT
UID:7-7
DTSTAMP:20260419T185004Z
SUMMARY:Easter (4/17) Celebration
LOCATION:
ORGANIZER;CN=admin:MAILTO:steve_zhu@ccaccacademy.org
DTSTART;TZID=America/New_York;VALUE=DATE:20220401
DTEND;TZID=America/New_York;VALUE=DATE:20220402
X-ALT-DESC;FMTTYPE=TEXT/HTML:Easter (4/17) Celebration
CATEGORIES:Preschool
URL;VALUE=URI:https://ccaccacademy.org/mc-events/easter-4-17-celebration/
METHOD:PUBLISH
END:VEVENT
END:VCALENDAR